Access deniedBEGIN:VCALENDAR
VERSION:2.0
PRODID:-//The Factory Science - ECPv6.15.15//NONSGML v1.0//EN
CALSCALE:GREGORIAN
METHOD:PUBLISH
X-ORIGINAL-URL:https://thefactoryscience.com
X-WR-CALDESC:Events for The Factory Science
REFRESH-INTERVAL;VALUE=DURATION:PT1H
X-Robots-Tag:noindex
X-PUBLISHED-TTL:PT1H
BEGIN:VTIMEZONE
TZID:UTC
BEGIN:STANDARD
TZOFFSETFROM:+0000
TZOFFSETTO:+0000
TZNAME:UTC
DTSTART:20250101T000000
END:STANDARD
END:VTIMEZONE
BEGIN:VEVENT
DTSTART;TZID=UTC:20260317T090000
DTEND;TZID=UTC:20260317T103000
DTSTAMP:20260425T004228
CREATED:20260312T124534Z
LAST-MODIFIED:20260312T124605Z
UID:6399-1773738000-1773743400@thefactoryscience.com
SUMMARY:Practical AI Safety – Live Online Session
DESCRIPTION:Practical AI Safety – Live Online SessionArtificial Intelligence is transforming industries\, but ensuring AI safety and responsible deployment is critical. Join this insightful session to understand the risks\, governance\, and practical approaches to building safer AI systems. \n\n\n\n📅 Date: 17th March 2026 (Tuesday)⏰ Time: 9:00 PM – 10:30 PM💻 Mode: Online \n\n\n\nSpeaker:Ms. Eng. Naiyarah HussainCo-Founder – AI Safety UAEWest & Central Asia Lead – AI Safety AsiaAmbassador – UAE National Program for Coders \n\n\n\nWhat You Will Learn✔ Introduction to AI Safety✔ Risks in AI Systems✔ Building Safer AI Models✔ AI Safety Audit & Testing✔ Responsible AI Governance \n\n\n\nWho Should Attend \n\n\n\n\nAI / ML Engineers & Data Scientists\n\n\n\nSoftware Developers & AI Architects\n\n\n\nProduct Managers & Technology Leaders\n\n\n\nCybersecurity & Risk Professionals\n\n\n\nAI Governance & Compliance Specialists\n\n\n\n\nCore Takeaways \n\n\n\n\nUnderstand key AI risks and safety challenges\n\n\n\nLearn practical methods to build trustworthy AI systems\n\n\n\nGain insights into AI governance and responsible implementation\n\n\n\n\n📢 Free Registration – Limited Seats Available!📩 For queries: yasmin@maxbytetech.com🌐 www.maxbyte.co \n\n\n\n\nRegister Now
URL:https://thefactoryscience.com/event/practical-ai-safety-live-online-session/
END:VEVENT
END:VCALENDAR