Access deniedBEGIN:VCALENDAR
VERSION:2.0
PRODID:-//The Factory Science - ECPv6.15.15//NONSGML v1.0//EN
CALSCALE:GREGORIAN
METHOD:PUBLISH
X-ORIGINAL-URL:https://thefactoryscience.com
X-WR-CALDESC:Events for The Factory Science
REFRESH-INTERVAL;VALUE=DURATION:PT1H
X-Robots-Tag:noindex
X-PUBLISHED-TTL:PT1H
BEGIN:VTIMEZONE
TZID:UTC
BEGIN:STANDARD
TZOFFSETFROM:+0000
TZOFFSETTO:+0000
TZNAME:UTC
DTSTART:20250101T000000
END:STANDARD
END:VTIMEZONE
BEGIN:VEVENT
DTSTART;TZID=UTC:20260302T100000
DTEND;TZID=UTC:20260302T170000
DTSTAMP:20260424T203617
CREATED:20260131T172726Z
LAST-MODIFIED:20260206T061735Z
UID:6249-1772445600-1772470800@thefactoryscience.com
SUMMARY:The LEAP Program – Launch Your Digital Twin Career
DESCRIPTION:📅 Program Kick-off: 2 March 2026📝 Registrations Open: 01 February – 13 February 2026📍 Location:Maxbyte Industry Innovation X.0 Hub\,Sharjah Research Technology and Innovation Park (SRTIP)\,Sharjah\, UAE
URL:https://thefactoryscience.com/event/the-leap-program-launch-your-digital-twin-career/
LOCATION:Maxbyte Industrial X.0 Innovation Hub\, Sharjah Research Technology and Innovation Park (SRTIP)\, Sharjah\, UAE
CATEGORIES:Learning Program,UAE
END:VEVENT
END:VCALENDAR