Access deniedBEGIN:VCALENDAR
VERSION:2.0
PRODID:-//The Factory Science - ECPv6.15.15//NONSGML v1.0//EN
CALSCALE:GREGORIAN
METHOD:PUBLISH
X-WR-CALNAME:The Factory Science
X-ORIGINAL-URL:https://thefactoryscience.com
X-WR-CALDESC:Events for The Factory Science
REFRESH-INTERVAL;VALUE=DURATION:PT1H
X-Robots-Tag:noindex
X-PUBLISHED-TTL:PT1H
BEGIN:VTIMEZONE
TZID:UTC
BEGIN:STANDARD
TZOFFSETFROM:+0000
TZOFFSETTO:+0000
TZNAME:UTC
DTSTART:20250101T000000
END:STANDARD
END:VTIMEZONE
BEGIN:VEVENT
DTSTART;TZID=UTC:20260325T100000
DTEND;TZID=UTC:20260325T120000
DTSTAMP:20260424T203713
CREATED:20260318T095225Z
LAST-MODIFIED:20260318T095320Z
UID:6407-1774432800-1774440000@thefactoryscience.com
SUMMARY:Critical Infrastructure AI Governance Workshop
DESCRIPTION:AI is transforming industries—but with innovation comes responsibility. Join us for an exclusive session focused on AI Safety\, Risk Management\, and Governance in Critical Infrastructure.📅 Date: 25th March 2026⏰ Time: 10:00 AM – 12:00 PM📍 Location: Sharjah Research\, Technology and Innovation Park (SPARK)What you’ll gain:✔️ Understanding AI risks in critical infrastructure✔️ Governance frameworks for responsible AI deployment✔️ Real-world sector scenarios & risk analysis✔️ Expert insights and interactive discussionsWho should attend?Technology leaders\, cybersecurity professionals\, AI specialists\, and governance experts driving digital transformation. \n\n\n\nWhy attend?Gain practical knowledge to build safe\, secure\, and resilient AI systems for the future.📩 For queries: yasmin@maxbytetech.com🌐 www.thefactoryscience.com \n\n\n\nFree Registration | Limited Seats Available \n\n\n\n\nRegister Now\n\n\n\nDownlode Brocher
URL:https://thefactoryscience.com/event/critical-infrastructure-ai-governance-workshop/
CATEGORIES:Learning Program,UAE
END:VEVENT
BEGIN:VEVENT
DTSTART;TZID=UTC:20260325T100000
DTEND;TZID=UTC:20260326T170000
DTSTAMP:20260424T203713
CREATED:20260131T172916Z
LAST-MODIFIED:20260202T114347Z
UID:6253-1774432800-1774544400@thefactoryscience.com
SUMMARY:I4.0 Championship
DESCRIPTION:Mode: Offline
URL:https://thefactoryscience.com/event/i4-0-championship/
CATEGORIES:Learning Program,UAE
END:VEVENT
END:VCALENDAR