Access deniedBEGIN:VCALENDAR
VERSION:2.0
PRODID:-//The Factory Science - ECPv6.15.15//NONSGML v1.0//EN
CALSCALE:GREGORIAN
METHOD:PUBLISH
X-WR-CALNAME:The Factory Science
X-ORIGINAL-URL:https://thefactoryscience.com
X-WR-CALDESC:Events for The Factory Science
REFRESH-INTERVAL;VALUE=DURATION:PT1H
X-Robots-Tag:noindex
X-PUBLISHED-TTL:PT1H
BEGIN:VTIMEZONE
TZID:UTC
BEGIN:STANDARD
TZOFFSETFROM:+0000
TZOFFSETTO:+0000
TZNAME:UTC
DTSTART:20240101T000000
END:STANDARD
END:VTIMEZONE
BEGIN:VTIMEZONE
TZID:Asia/Kolkata
BEGIN:STANDARD
TZOFFSETFROM:+0530
TZOFFSETTO:+0530
TZNAME:IST
DTSTART:20240101T000000
END:STANDARD
END:VTIMEZONE
BEGIN:VEVENT
DTSTART;TZID=UTC:20251203T100000
DTEND;TZID=UTC:20251203T120000
DTSTAMP:20260425T113141
CREATED:20250908T062202Z
LAST-MODIFIED:20250918T073346Z
UID:5329-1764756000-1764763200@thefactoryscience.com
SUMMARY:Autonomous Manufacturing using Advanced Robotics & Automation for Productivity\, Cost Savings & New Business Models
DESCRIPTION:
URL:https://thefactoryscience.com/event/autonomous-manufacturing-using-advanced-robotics-automation-for-productivity-cost-savings-new-business-models/
CATEGORIES:Learning Program,UAE
END:VEVENT
BEGIN:VEVENT
DTSTART;TZID=UTC:20251129T090000
DTEND;TZID=UTC:20251129T170000
DTSTAMP:20260425T113141
CREATED:20250911T043627Z
LAST-MODIFIED:20250924T044824Z
UID:5379-1764406800-1764435600@thefactoryscience.com
SUMMARY:Robotics Workshop & Space Exploration
DESCRIPTION:
URL:https://thefactoryscience.com/event/robotics-workshop-space-exploration-5/
CATEGORIES:INDIA,Learning Program
END:VEVENT
BEGIN:VEVENT
DTSTART;TZID=UTC:20251128T093000
DTEND;TZID=UTC:20251128T133000
DTSTAMP:20260425T113141
CREATED:20251029T112952Z
LAST-MODIFIED:20251031T130644Z
UID:5709-1764322200-1764336600@thefactoryscience.com
SUMMARY:Industry 4.0 Foundation Program
DESCRIPTION:🚀 Unlock the Future of Manufacturing – Join the Industry 4.0 Foundation Program! \n\n\n\nAre you a CXO\, VP\, or Senior Manager in manufacturing or R&D looking to lead your organization into the next industrial revolution? \n\n\n\n📅 Date: 28th Nov 2025                                                                           \n\n\n\n🕤 Time: 9:30 AM – 1:30 PM \n\n\n\nVenue: Madurai Skill Development Academy\, GST Road\, Thirupparankundram\, Madurai.                                                   \n\n\n\nMaxbyte Technologies invites you to an immersive Industry 4.0 Foundation Program—a hands-on\, expert-led session designed to demystify digital transformation and equip you with actionable insights.                                   \n\n\n\n🎯 What You’ll Gain: \n\n\n\n\nA clear roadmap for Industry 4.0 transformation\n\n\n\nExposure to enabling technologies like AI\, IoT\, and Digital Twins\n\n\n\nReal-world case studies and use cases\n\n\n\nAccess to a vibrant post-program community\n\n\n\n\n💡 Program Highlights: \n\n\n\n\n4 hours of experiential classroom learning\n\n\n\nExpert trainers with deep domain knowledge\n\n\n\nFree registration (limited seats!)\n\n\n\nContinued support beyond the session\n\n\n\n\n\nRegister Now\n\n\n\n\n \n\n\n\n📧 For queries: kannanpirane@maxbytetech.com | 📞 +91 98437 49714 \n\n\n\nLet’s build smarter factories\, stronger teams\, and sustainable futures—starting in Madurai.
URL:https://thefactoryscience.com/event/industry-4-0-foundation-program/
LOCATION:Madurai Skill Development Academy\, GST Road\, Thirupparankundram\, Madurai
CATEGORIES:INDIA,Learning Program
END:VEVENT
BEGIN:VEVENT
DTSTART;TZID=UTC:20251127T100000
DTEND;TZID=UTC:20251127T120000
DTSTAMP:20260425T113141
CREATED:20250911T043539Z
LAST-MODIFIED:20250924T044817Z
UID:5377-1764237600-1764244800@thefactoryscience.com
SUMMARY:Intelligent Assembly MES using IIOT\, AI\, RPA\, EAI for Enhanced Visibility\, Productivity\, Improved Decision Making and Faster Time to Market
DESCRIPTION:
URL:https://thefactoryscience.com/event/intelligent-assembly-mes-using-iiot-ai-rpa-eai-for-enhanced-visibility-productivity-improved-decision-making-and-faster-time-to-market-2/
CATEGORIES:INDIA,Learning Program
END:VEVENT
BEGIN:VEVENT
DTSTART;TZID=UTC:20251120T090000
DTEND;TZID=UTC:20251120T110000
DTSTAMP:20260425T113141
CREATED:20250908T065643Z
LAST-MODIFIED:20250916T085448Z
UID:5346-1763629200-1763636400@thefactoryscience.com
SUMMARY:Digital Twin for Efficiency Simulation & Optimization
DESCRIPTION:
URL:https://thefactoryscience.com/event/digital-twin-for-efficiency-simulation-optimization-2/
LOCATION:Advanced Technology Center 1800 College Crescent\, Room H178 (Virginia Beach Workforce Training Center) Virginia Beach\, VA 23453
CATEGORIES:Learning Program,USA,Virginia Beach
END:VEVENT
BEGIN:VEVENT
DTSTART;TZID=UTC:20251119T100000
DTEND;TZID=UTC:20251119T120000
DTSTAMP:20260425T113141
CREATED:20250908T062333Z
LAST-MODIFIED:20250926T120627Z
UID:5331-1763546400-1763553600@thefactoryscience.com
SUMMARY:Intelligent MES using AI\, IIOT\, EAI for Enhanced Visibility\, Productivity\, Improved Decision Making and Faster Time to Market
DESCRIPTION:
URL:https://thefactoryscience.com/event/intelligent-mes-using-ai-iiot-eai-for-enhanced-visibility-productivity-improved-decision-making-and-faster-time-to-market/
CATEGORIES:Learning Program,UAE
END:VEVENT
BEGIN:VEVENT
DTSTART;TZID=UTC:20251106T090000
DTEND;TZID=UTC:20251106T110000
DTSTAMP:20260425T113141
CREATED:20250908T065525Z
LAST-MODIFIED:20250916T085259Z
UID:5344-1762419600-1762426800@thefactoryscience.com
SUMMARY:Intelligent Assembly MES using IIOT\, AI\, RPA\, EAI for Enhanced Visibility\, Productivity\, Improved Decision Making and Faster Time to Market
DESCRIPTION:
URL:https://thefactoryscience.com/event/intelligent-assembly-mes-using-iiot-ai-rpa-eai-for-enhanced-visibility-productivity-improved-decision-making-and-faster-time-to-market/
LOCATION:Advanced Technology Center 1800 College Crescent\, Room H178 (Virginia Beach Workforce Training Center) Virginia Beach\, VA 23453
CATEGORIES:Learning Program,USA,Virginia Beach
END:VEVENT
BEGIN:VEVENT
DTSTART;TZID=Asia/Kolkata:20251105T093000
DTEND;TZID=Asia/Kolkata:20251105T143000
DTSTAMP:20260425T113141
CREATED:20250908T062449Z
LAST-MODIFIED:20251030T074227Z
UID:5333-1762335000-1762353000@thefactoryscience.com
SUMMARY:Quantum Computing for Manufacturers: A Guide to Tomorrow's Technology
DESCRIPTION:🚀 Step Into the Quantum Era – Join the “Quantum Computing for Manufacturers and Beyond” Workshop! \n\n\n\n📅 Date: 5th November 2025 (Wednesday)🕘 Time: 9:30 AM – 2:30 PM GST📍 Venue: Maxbyte Industrial X.0 Innovation Hub\, Sharjah Research\, Technology and Innovation Park (SRTIP)\, Sharjah\, UAE \n\n\n\n\nRegister Now\n\n\n\n\n \n\n\n\nThe Factory Science\, in collaboration with Vernewell Group\, invites you to an immersive workshop designed to demystify quantum computing and uncover its practical applications in industry and innovation. \n\n\n\n🎯 What You’ll Gain: \n\n\n\n\nClear understanding of how quantum computing impacts industrial transformation\n\n\n\nInsights into quantum workflows and real-world use cases\n\n\n\nExposure to the VerneX Quantum Platform through a live demo\n\n\n\nStrategies for pilot projects and technology adoption in your enterprise\n\n\n\n\n💡 Program Highlights: \n\n\n\n\n5 hours of hands-on sessions & expert talks\n\n\n\nReal industrial case discussions\n\n\n\nNetworking lunch with innovation leaders\n\n\n\n\n👨‍🏫 Speakers: \n\n\n\n\nMalak Trabelsi Loeb – Founder & Managing Director\, Vernewell Group\n\n\n\nTamuz Dan – Technical Lead\, VerneX Quantum Platform\n\n\n\n\n\n\n\n\nWorkshop Agenda: \n\n\n\n09:30 am –10:00 am – Registration and Welcome Coffee \n\n\n\n10:00 am – 10:05 am – Opening Remarks:  Industry X.0 Hub and Strategic             Collaboration – Yasmin Al Enazi \n\n\n\n10:05 am – 11:00 am  \n\n\n\nSession 1: Quantum Technologies – Global Outlook and Industrial RelevanceSpeaker: Malak Trabelsi Loeb\, Founder & Managing Director\, Vernewell Group \n\n\n\n11:00 am – 12:00 pm  \n\n\n\nSession 2: Applied Quantum Computing for Industry and Use Case Exploration Tools\, workflows\, and quantum software practices using the VerneX Quantum PlatformSpeaker: Tamuz Dan\, Technical Lead VerneX Quantum Platform \n\n\n\n12:00 pm – 12:15 pm – Refreshment Break \n\n\n\n12:15 pm – 13:15 pm – Session 3: Learning by Doing – VerneX Quantum Platform Demonstration Platform walkthrough and application showcase \n\n\n\n13:15 pm – 13:45 pm \n\n\n\nSession 4: Quantum Use Cases Across SectorsSpeaker: Tamuz Dan\, Technical LeadVerneX Quantum Platform \n\n\n\n13:45 pm – 13:50 pm – Closing Remarks – Yasmin Al Enazi \n\n\n\n13:50 pm – 14:30 pm – Industry Dialogue and Networking Lunch \n\n\n\n\n\n\n\n\nRegister Now\n\n\n\n\n📧 For Queries: yasmin@maxbytetech.com | 📞 +971 6 564 5529 \n\n\n\nLet’s shape the future of manufacturing and innovation—powered by quantum intelligence.
URL:https://thefactoryscience.com/event/quantum-computing-for-manufacturers-a-guide-to-tomorrows-technology/
CATEGORIES:Learning Program,UAE
END:VEVENT
BEGIN:VEVENT
DTSTART;TZID=UTC:20251030T100000
DTEND;TZID=UTC:20251030T120000
DTSTAMP:20260425T113142
CREATED:20250909T102323Z
LAST-MODIFIED:20250916T063743Z
UID:5364-1761818400-1761825600@thefactoryscience.com
SUMMARY:Intelligent & Predictive Maintenance System using OT-IT\, Ai\, ML\, IIOT\, AR\, CMMS integration. 
DESCRIPTION:
URL:https://thefactoryscience.com/event/intelligent-predictive-maintenance-system-using-ot-it-ai-ml-iiot-ar-cmms-integration-2/
CATEGORIES:INDIA,Learning Program
END:VEVENT
BEGIN:VEVENT
DTSTART;TZID=UTC:20251025T090000
DTEND;TZID=UTC:20251025T170000
DTSTAMP:20260425T113142
CREATED:20250909T102229Z
LAST-MODIFIED:20250916T063712Z
UID:5362-1761382800-1761411600@thefactoryscience.com
SUMMARY:Robotics Workshop & Space Exploration
DESCRIPTION:
URL:https://thefactoryscience.com/event/robotics-workshop-space-exploration-4/
CATEGORIES:INDIA,Learning Program
END:VEVENT
BEGIN:VEVENT
DTSTART;TZID=UTC:20251023T090000
DTEND;TZID=UTC:20251023T110000
DTSTAMP:20260425T113142
CREATED:20250908T065431Z
LAST-MODIFIED:20250916T063614Z
UID:5342-1761210000-1761217200@thefactoryscience.com
SUMMARY:Advanced Robotics & Automation for Quality & Packaging
DESCRIPTION:
URL:https://thefactoryscience.com/event/advanced-robotics-automation-for-quality-packaging/
CATEGORIES:Learning Program,USA,Virginia Beach
END:VEVENT
BEGIN:VEVENT
DTSTART;TZID=UTC:20251016T100000
DTEND;TZID=UTC:20251016T120000
DTSTAMP:20260425T113142
CREATED:20250909T102131Z
LAST-MODIFIED:20250915T121407Z
UID:5360-1760608800-1760616000@thefactoryscience.com
SUMMARY:Autonomous Industrial Mobile Robots / Vehicles for Productivity and Cost Savings
DESCRIPTION:
URL:https://thefactoryscience.com/event/autonomous-industrial-mobile-robots-vehicles-for-productivity-and-cost-savings/
CATEGORIES:INDIA,Learning Program
END:VEVENT
BEGIN:VEVENT
DTSTART;TZID=UTC:20251013T090000
DTEND;TZID=UTC:20251017T180000
DTSTAMP:20260425T113142
CREATED:20250908T062054Z
LAST-MODIFIED:20250915T121340Z
UID:5327-1760346000-1760724000@thefactoryscience.com
SUMMARY:Product demo @ GITEX GLOBAL 2025\, Etisalat\, WTC\, Dubai
DESCRIPTION:
URL:https://thefactoryscience.com/event/product-demo-gitex-global-2025-etisalat-wtc-dubai/
CATEGORIES:Learning Program,UAE
END:VEVENT
BEGIN:VEVENT
DTSTART;TZID=UTC:20251009T090000
DTEND;TZID=UTC:20251009T110000
DTSTAMP:20260425T113142
CREATED:20250908T065059Z
LAST-MODIFIED:20250915T121320Z
UID:5340-1760000400-1760007600@thefactoryscience.com
SUMMARY:Intelligent & Predictive Maintenance System using OT-IT\, Ai\, ML\, IIOT\, AR\, CMMS integration. 
DESCRIPTION:
URL:https://thefactoryscience.com/event/intelligent-predictive-maintenance-system-using-ot-it-ai-ml-iiot-ar-cmms-integration/
CATEGORIES:Learning Program,USA,Virginia Beach
END:VEVENT
BEGIN:VEVENT
DTSTART;TZID=UTC:20251002T100000
DTEND;TZID=UTC:20251002T120000
DTSTAMP:20260425T113142
CREATED:20250908T061921Z
LAST-MODIFIED:20250924T045102Z
UID:5325-1759399200-1759406400@thefactoryscience.com
SUMMARY:Immersive Technologies (AR/VR) based work instructions and trainings for Operational Process Efficiency & Safety
DESCRIPTION:🚀 Transform Your Workforce Training with AR/VR! \n\n\n\nWe are excited to invite you to an exclusive session on: \n\n\n\n“AR/VR Based Process Work Instructions & Operations Training for Process Efficiency & Safety” \n\n\n\nDiscover how AR/VR technologies are transforming manufacturing and operations by improving process efficiency\, safety\, and workforce training. This session will showcase immersive demonstrations\, industry use cases\, and ROI-driven strategies to help leaders and professionals adopt AR/VR for smarter work instructions and operational excellence. \n\n\n\n📅 Date & Time: 2nd October 2025 | 10:00 AM – 12:00 PM📍 Location: Industry X.0 Innovation Hub\, Sharjah Research Technology and Innovation Park (SRTIP)\, Sharjah\, UAE \n\n\n\n🔹 Program Highlights:✅ AR/VR Adoption Trends in Manufacturing✅ Immersive Maintenance & Safety Simulations✅ AR-based Operator Training Modules✅ ROI Measurement of Immersive Technologies \n\n\n\n🔹 Who Should Attend:✔ Maintenance\, Production & Safety Professionals✔ R&D and Training Managers✔ CXOs & Digital Transformation Leaders \n\n\n\n🎯 Key Outcomes:✔ Understand AR/VR for process efficiency & safety✔ Develop immersive work instructions✔ Enhance workforce training & hazard awareness \n\n\n\n👉 Register Now: https://forms.gle/tVHDEaRspcVdyo7C7 \n\n\n\nFor further queries\, feel free to contact:📧 yasmin@maxbytetech.com📞+971 50 172 6224
URL:https://thefactoryscience.com/event/immersive-technologies-ar-vr-based-work-instructions-and-trainings-for-operational-process-efficiency-safety/
CATEGORIES:Learning Program,UAE
END:VEVENT
BEGIN:VEVENT
DTSTART;TZID=UTC:20250930T100000
DTEND;TZID=UTC:20250930T120000
DTSTAMP:20260425T113142
CREATED:20250909T101943Z
LAST-MODIFIED:20250918T071336Z
UID:5356-1759226400-1759233600@thefactoryscience.com
SUMMARY:Immersive Technologies (AR/VR) based work instructions and trainings for Operational Process Efficiency & Safety
DESCRIPTION:AR/VR Based Process Work Instructions & Operations Training For Process Efficiency & Safety  \n\n\n\nWe’re excited to invite you to an exclusive training session on how Augmented Reality (AR) and Virtual Reality (VR) are transforming the way industries manage work instructions\, operations\, safety\, and workforce training.  \n\n\n\n📅 Date & Time: 30th September 2025 | 10:00 AM – 12:00 PM  \n\n\n\n📍 Location: Industry X.0 Innovation Hub\, PSG GRD Museum of Science and Technology\, PSG iTech Campus\, Neelambur\, Coimbatore  \n\n\n\n🔹 What You’ll Learn:  \n\n\n\n• Latest AR/VR adoption trends in manufacturing \n\n\n\n• Immersive simulations for maintenance & safety  \n\n\n\n• AR-powered operator training modules  \n\n\n\n• Methods to measure ROI of immersive technologies  \n\n\n\n👨‍💼Speaker: Mr. Gift Selvin T\, Innovation Director\, Maxbyte Technologies \n\n\n\n 💡 Who Should Attend? \n\n\n\n • Maintenance\, Production & Safety Professionals  \n\n\n\n• R&D & Training Managers  \n\n\n\n• CXOs & Digital Transformation Leaders  \n\n\n\n✅ Key Outcomes:  \n\n\n\n• Gain a deep understanding of AR/VR for efficiency & safety improvements  \n\n\n\n• Learn to develop immersive digital work instructions  \n\n\n\n• Explore new ways to enhance workforce training & hazard awareness 🎯 \n\n\n\nFree Registration | Limited Seats Only!  \n\n\n\n👉 Register Now: https://lnkd.in/geGVUMBw  \n\n\n\nFor queries\, contact: 📧 kannapiran.e@maxbytetech.com
URL:https://thefactoryscience.com/event/immersive-technologies-ar-vr-based-work-instructions-and-trainings-for-operational-process-efficiency-safety-3/
CATEGORIES:INDIA,Learning Program
END:VEVENT
BEGIN:VEVENT
DTSTART;TZID=UTC:20250927T090000
DTEND;TZID=UTC:20250927T170000
DTSTAMP:20260425T113142
CREATED:20250909T102038Z
LAST-MODIFIED:20250924T044927Z
UID:5358-1758963600-1758992400@thefactoryscience.com
SUMMARY:Robotics Workshop & Space Exploration
DESCRIPTION:
URL:https://thefactoryscience.com/event/robotics-workshop-space-exploration-3/
CATEGORIES:INDIA,Learning Program
END:VEVENT
BEGIN:VEVENT
DTSTART;TZID=UTC:20250925T090000
DTEND;TZID=UTC:20250925T110000
DTSTAMP:20260425T113142
CREATED:20250908T064936Z
LAST-MODIFIED:20250918T071817Z
UID:5338-1758790800-1758798000@thefactoryscience.com
SUMMARY:Autonomous Industrial Mobile Robots / Vehicles for Productivity and Cost Savings
DESCRIPTION:Unlock the Future of Factory Logistics with Autonomous Mobile Robots (AMRs)!  \n\n\n\nMaxbyte Technologies invites manufacturing\, logistics\, and operations professionals to an exclusive training session on Autonomous Mobile Robots for Productivity Improvement & Cost Savings.  \n\n\n\n📅 Date: 25th September 2025 (09:00 AM – 11:00 AM)  \n\n\n\n📍Location: Advanced Technology Center\, Virginia Beach\, VA 23453 \n\n\n\n🔧 What You’ll Learn:  \n\n\n\n✔ Classification of Industrial Robots  \n\n\n\n✔ AMR vs. AGV: Technologies & Applications \n\n\n\n✔ Market Trends\, Form Factors & Features  \n\n\n\n✔ Deployment Strategies in Logistics & Manufacturing  \n\n\n\n✔ Safety Protocols & Compliance  \n\n\n\n🎯 Who Should Attend: Manufacturing Process Managers | Logistics & Warehouse Managers | Operations & Safety Leaders  \n\n\n\n💡 Experience live demonstrations\, real-world case studies\, expert Q&A sessions\, and gain a clear roadmap for integrating AMRs into your operations.  \n\n\n\n🔗 Register Now: https://lnkd.in/g_8VikFP  \n\n\n\n📧 connect@maxbytetech.com | 📞 +1 (609) 937-591
URL:https://thefactoryscience.com/event/retrieving-data-wait-a-few-seconds-and-try-to-cut-or-copy-again/
LOCATION:Advanced Technology Center 1800 College Crescent\, Room H178 (Virginia Beach Workforce Training Center) Virginia Beach\, VA 23453
CATEGORIES:Learning Program,USA,Virginia Beach
END:VEVENT
BEGIN:VEVENT
DTSTART;TZID=UTC:20250923T100000
DTEND;TZID=UTC:20250923T120000
DTSTAMP:20260425T113142
CREATED:20250908T054617Z
LAST-MODIFIED:20250918T065903Z
UID:5323-1758621600-1758628800@thefactoryscience.com
SUMMARY:Artificial Intelligence (AI) in Manufacturing
DESCRIPTION:Join us for an interactive online workshop\, a strategic initiative by Maxbyte Technologies IX.0 Innovation Center in collaboration with Emirates Development Bank (EDB) This session will empower forward-thinking professionals with hands-on insights and practical frameworks to design and implement scalable AI-driven solutions for the manufacturing sector.  \n\n\n\nLimited seats available. Registration is now open! https://lnkd.in/dXRMEPbn
URL:https://thefactoryscience.com/event/artificial-intelligence-ai-in-manufacturing/
CATEGORIES:Learning Program,UAE
END:VEVENT
BEGIN:VEVENT
DTSTART;TZID=UTC:20250911T093000
DTEND;TZID=UTC:20250912T173000
DTSTAMP:20260425T113142
CREATED:20250909T101724Z
LAST-MODIFIED:20250910T101120Z
UID:5354-1757583000-1757698200@thefactoryscience.com
SUMMARY:Industry 4.0 Championship program
DESCRIPTION:
URL:https://thefactoryscience.com/event/industry-4-0-championship-program-3/
CATEGORIES:INDIA,Learning Program
END:VEVENT
BEGIN:VEVENT
DTSTART;TZID=UTC:20250911T090000
DTEND;TZID=UTC:20250911T110000
DTSTAMP:20260425T113142
CREATED:20250908T062710Z
LAST-MODIFIED:20250910T101230Z
UID:5336-1757581200-1757588400@thefactoryscience.com
SUMMARY:Immersive Technologies (AR/VR) based work instructions and trainings for Operational Process Efficiency & Safety
DESCRIPTION:🚀 Discover How AR/VR is Transforming Manufacturing & Operations \n\n\n\nJoin us for an exclusive session on how Augmented Reality (AR) and Virtual Reality (VR) are driving process efficiency\, safety\, and workforce training in manufacturing. \n\n\n\nThis interactive program will feature immersive demos\, industry use cases\, and ROI-driven strategies to help leaders adopt AR/VR for smarter work instructions and operational excellence. \n\n\n\n📅 Date & Time: 11th September 2025 | 10:00 AM – 12:00 PM📍 Location: Advanced Technology Center\, 1800 College Crescent\, Room H178(Virginia Beach Workforce Training Center)\, Virginia Beach\, VA 23453 \n\n\n\n🔹 Program Highlights✅ AR/VR Adoption Trends in Manufacturing✅ Immersive Maintenance & Safety Simulations✅ AR-based Operator Training Modules✅ ROI Measurement of Immersive Technologies \n\n\n\n🔹 Who Should Attend✔ Maintenance\, Production & Safety Professionals✔ R&D and Training Managers✔ CXOs & Digital Transformation Leaders \n\n\n\n🎯 Key Outcomes✔ Learn how AR/VR improves process efficiency & safety✔ Explore immersive work instructions✔ Enhance workforce training & hazard awareness \n\n\n\n👉 Register Now: https://forms.gle/4vdssWsUpFxF85Vs9📧 connect@maxbytetech.com | 📞 +1 (609) 937-5914
URL:https://thefactoryscience.com/event/immersive-technologies-ar-vr-based-work-instructions-and-trainings-for-operational-process-efficiency-safety-2/
CATEGORIES:Learning Program,USA,Virginia Beach
END:VEVENT
END:VCALENDAR